BEGIN:VCALENDAR
VERSION:2.0
PRODID:-//2 Or More Ministries - ECPv6.15.20//NONSGML v1.0//EN
CALSCALE:GREGORIAN
METHOD:PUBLISH
X-ORIGINAL-URL:https://www.2ormore.org
X-WR-CALDESC:Events for 2 Or More Ministries
REFRESH-INTERVAL;VALUE=DURATION:PT1H
X-Robots-Tag:noindex
X-PUBLISHED-TTL:PT1H
BEGIN:VTIMEZONE
TZID:UTC
BEGIN:STANDARD
TZOFFSETFROM:+0000
TZOFFSETTO:+0000
TZNAME:UTC
DTSTART:20240101T000000
END:STANDARD
END:VTIMEZONE
BEGIN:VEVENT
DTSTART;TZID=UTC:20251125T080000
DTEND;TZID=UTC:20251125T170000
DTSTAMP:20260425T193023
CREATED:20240306T185823Z
LAST-MODIFIED:20240306T185823Z
UID:10002505-1764057600-1764090000@www.2ormore.org
SUMMARY:The Prayer Porch
DESCRIPTION:
URL:https://www.2ormore.org/event/the-prayer-porch/2025-11-25/
END:VEVENT
BEGIN:VEVENT
DTSTART;TZID=UTC:20251124T080000
DTEND;TZID=UTC:20251124T170000
DTSTAMP:20260425T193023
CREATED:20240306T185823Z
LAST-MODIFIED:20240306T185823Z
UID:10002504-1763971200-1764003600@www.2ormore.org
SUMMARY:The Prayer Porch
DESCRIPTION:
URL:https://www.2ormore.org/event/the-prayer-porch/2025-11-24/
END:VEVENT
BEGIN:VEVENT
DTSTART;TZID=UTC:20251121T080000
DTEND;TZID=UTC:20251121T170000
DTSTAMP:20260425T193023
CREATED:20240306T185823Z
LAST-MODIFIED:20240306T185823Z
UID:10002503-1763712000-1763744400@www.2ormore.org
SUMMARY:The Prayer Porch
DESCRIPTION:
URL:https://www.2ormore.org/event/the-prayer-porch/2025-11-21/
END:VEVENT
BEGIN:VEVENT
DTSTART;TZID=UTC:20251120T080000
DTEND;TZID=UTC:20251120T170000
DTSTAMP:20260425T193023
CREATED:20240306T185823Z
LAST-MODIFIED:20240306T185823Z
UID:10002502-1763625600-1763658000@www.2ormore.org
SUMMARY:The Prayer Porch
DESCRIPTION:
URL:https://www.2ormore.org/event/the-prayer-porch/2025-11-20/
END:VEVENT
BEGIN:VEVENT
DTSTART;TZID=UTC:20251119T080000
DTEND;TZID=UTC:20251119T170000
DTSTAMP:20260425T193023
CREATED:20240306T185823Z
LAST-MODIFIED:20240306T185823Z
UID:10002501-1763539200-1763571600@www.2ormore.org
SUMMARY:The Prayer Porch
DESCRIPTION:
URL:https://www.2ormore.org/event/the-prayer-porch/2025-11-19/
END:VEVENT
BEGIN:VEVENT
DTSTART;TZID=UTC:20251118T080000
DTEND;TZID=UTC:20251118T170000
DTSTAMP:20260425T193023
CREATED:20240306T185823Z
LAST-MODIFIED:20240306T185823Z
UID:10002500-1763452800-1763485200@www.2ormore.org
SUMMARY:The Prayer Porch
DESCRIPTION:
URL:https://www.2ormore.org/event/the-prayer-porch/2025-11-18/
END:VEVENT
BEGIN:VEVENT
DTSTART;TZID=UTC:20251117T080000
DTEND;TZID=UTC:20251117T170000
DTSTAMP:20260425T193023
CREATED:20240306T185823Z
LAST-MODIFIED:20240306T185823Z
UID:10002499-1763366400-1763398800@www.2ormore.org
SUMMARY:The Prayer Porch
DESCRIPTION:
URL:https://www.2ormore.org/event/the-prayer-porch/2025-11-17/
END:VEVENT
BEGIN:VEVENT
DTSTART;TZID=UTC:20251114T080000
DTEND;TZID=UTC:20251114T170000
DTSTAMP:20260425T193023
CREATED:20240306T185823Z
LAST-MODIFIED:20240306T185823Z
UID:10002498-1763107200-1763139600@www.2ormore.org
SUMMARY:The Prayer Porch
DESCRIPTION:
URL:https://www.2ormore.org/event/the-prayer-porch/2025-11-14/
END:VEVENT
BEGIN:VEVENT
DTSTART;TZID=UTC:20251113T080000
DTEND;TZID=UTC:20251113T170000
DTSTAMP:20260425T193023
CREATED:20240306T185823Z
LAST-MODIFIED:20240306T185823Z
UID:10002497-1763020800-1763053200@www.2ormore.org
SUMMARY:The Prayer Porch
DESCRIPTION:
URL:https://www.2ormore.org/event/the-prayer-porch/2025-11-13/
END:VEVENT
BEGIN:VEVENT
DTSTART;TZID=UTC:20251112T080000
DTEND;TZID=UTC:20251112T170000
DTSTAMP:20260425T193023
CREATED:20240306T185823Z
LAST-MODIFIED:20240306T185823Z
UID:10002496-1762934400-1762966800@www.2ormore.org
SUMMARY:The Prayer Porch
DESCRIPTION:
URL:https://www.2ormore.org/event/the-prayer-porch/2025-11-12/
END:VEVENT
BEGIN:VEVENT
DTSTART;TZID=UTC:20251111T080000
DTEND;TZID=UTC:20251111T170000
DTSTAMP:20260425T193023
CREATED:20240306T185823Z
LAST-MODIFIED:20240306T185823Z
UID:10002495-1762848000-1762880400@www.2ormore.org
SUMMARY:The Prayer Porch
DESCRIPTION:
URL:https://www.2ormore.org/event/the-prayer-porch/2025-11-11/
END:VEVENT
BEGIN:VEVENT
DTSTART;TZID=UTC:20251110T080000
DTEND;TZID=UTC:20251110T170000
DTSTAMP:20260425T193023
CREATED:20240306T185823Z
LAST-MODIFIED:20240306T185823Z
UID:10002494-1762761600-1762794000@www.2ormore.org
SUMMARY:The Prayer Porch
DESCRIPTION:
URL:https://www.2ormore.org/event/the-prayer-porch/2025-11-10/
END:VEVENT
BEGIN:VEVENT
DTSTART;TZID=UTC:20251107T080000
DTEND;TZID=UTC:20251107T170000
DTSTAMP:20260425T193023
CREATED:20240306T185823Z
LAST-MODIFIED:20240306T185823Z
UID:10002493-1762502400-1762534800@www.2ormore.org
SUMMARY:The Prayer Porch
DESCRIPTION:
URL:https://www.2ormore.org/event/the-prayer-porch/2025-11-07/
END:VEVENT
BEGIN:VEVENT
DTSTART;TZID=UTC:20251106T080000
DTEND;TZID=UTC:20251106T170000
DTSTAMP:20260425T193023
CREATED:20240306T185823Z
LAST-MODIFIED:20240306T185823Z
UID:10002492-1762416000-1762448400@www.2ormore.org
SUMMARY:The Prayer Porch
DESCRIPTION:
URL:https://www.2ormore.org/event/the-prayer-porch/2025-11-06/
END:VEVENT
BEGIN:VEVENT
DTSTART;TZID=UTC:20251105T080000
DTEND;TZID=UTC:20251105T170000
DTSTAMP:20260425T193023
CREATED:20240306T185823Z
LAST-MODIFIED:20240306T185823Z
UID:10002491-1762329600-1762362000@www.2ormore.org
SUMMARY:The Prayer Porch
DESCRIPTION:
URL:https://www.2ormore.org/event/the-prayer-porch/2025-11-05/
END:VEVENT
BEGIN:VEVENT
DTSTART;TZID=UTC:20251104T080000
DTEND;TZID=UTC:20251104T170000
DTSTAMP:20260425T193023
CREATED:20240306T185823Z
LAST-MODIFIED:20240306T185823Z
UID:10002490-1762243200-1762275600@www.2ormore.org
SUMMARY:The Prayer Porch
DESCRIPTION:
URL:https://www.2ormore.org/event/the-prayer-porch/2025-11-04/
END:VEVENT
BEGIN:VEVENT
DTSTART;TZID=UTC:20251103T080000
DTEND;TZID=UTC:20251103T170000
DTSTAMP:20260425T193023
CREATED:20240306T185823Z
LAST-MODIFIED:20240306T185823Z
UID:10002489-1762156800-1762189200@www.2ormore.org
SUMMARY:The Prayer Porch
DESCRIPTION:
URL:https://www.2ormore.org/event/the-prayer-porch/2025-11-03/
END:VEVENT
BEGIN:VEVENT
DTSTART;TZID=UTC:20251031T080000
DTEND;TZID=UTC:20251031T170000
DTSTAMP:20260425T193023
CREATED:20240306T185823Z
LAST-MODIFIED:20240306T185823Z
UID:10002488-1761897600-1761930000@www.2ormore.org
SUMMARY:The Prayer Porch
DESCRIPTION:
URL:https://www.2ormore.org/event/the-prayer-porch/2025-10-31/
END:VEVENT
BEGIN:VEVENT
DTSTART;TZID=UTC:20251030T080000
DTEND;TZID=UTC:20251030T170000
DTSTAMP:20260425T193023
CREATED:20240306T185823Z
LAST-MODIFIED:20240306T185823Z
UID:10002487-1761811200-1761843600@www.2ormore.org
SUMMARY:The Prayer Porch
DESCRIPTION:
URL:https://www.2ormore.org/event/the-prayer-porch/2025-10-30/
END:VEVENT
BEGIN:VEVENT
DTSTART;TZID=UTC:20251029T080000
DTEND;TZID=UTC:20251029T170000
DTSTAMP:20260425T193023
CREATED:20240306T185823Z
LAST-MODIFIED:20240306T185823Z
UID:10002486-1761724800-1761757200@www.2ormore.org
SUMMARY:The Prayer Porch
DESCRIPTION:
URL:https://www.2ormore.org/event/the-prayer-porch/2025-10-29/
END:VEVENT
BEGIN:VEVENT
DTSTART;TZID=UTC:20251028T080000
DTEND;TZID=UTC:20251028T170000
DTSTAMP:20260425T193023
CREATED:20240306T185823Z
LAST-MODIFIED:20240306T185823Z
UID:10002485-1761638400-1761670800@www.2ormore.org
SUMMARY:The Prayer Porch
DESCRIPTION:
URL:https://www.2ormore.org/event/the-prayer-porch/2025-10-28/
END:VEVENT
BEGIN:VEVENT
DTSTART;TZID=UTC:20251027T080000
DTEND;TZID=UTC:20251027T170000
DTSTAMP:20260425T193023
CREATED:20240306T185823Z
LAST-MODIFIED:20240306T185823Z
UID:10002484-1761552000-1761584400@www.2ormore.org
SUMMARY:The Prayer Porch
DESCRIPTION:
URL:https://www.2ormore.org/event/the-prayer-porch/2025-10-27/
END:VEVENT
BEGIN:VEVENT
DTSTART;TZID=UTC:20251024T080000
DTEND;TZID=UTC:20251024T170000
DTSTAMP:20260425T193023
CREATED:20240306T185823Z
LAST-MODIFIED:20240306T185823Z
UID:10002483-1761292800-1761325200@www.2ormore.org
SUMMARY:The Prayer Porch
DESCRIPTION:
URL:https://www.2ormore.org/event/the-prayer-porch/2025-10-24/
END:VEVENT
BEGIN:VEVENT
DTSTART;TZID=UTC:20251023T080000
DTEND;TZID=UTC:20251023T170000
DTSTAMP:20260425T193023
CREATED:20240306T185823Z
LAST-MODIFIED:20240306T185823Z
UID:10002482-1761206400-1761238800@www.2ormore.org
SUMMARY:The Prayer Porch
DESCRIPTION:
URL:https://www.2ormore.org/event/the-prayer-porch/2025-10-23/
END:VEVENT
BEGIN:VEVENT
DTSTART;TZID=UTC:20251022T080000
DTEND;TZID=UTC:20251022T170000
DTSTAMP:20260425T193023
CREATED:20240306T185823Z
LAST-MODIFIED:20240306T185823Z
UID:10002481-1761120000-1761152400@www.2ormore.org
SUMMARY:The Prayer Porch
DESCRIPTION:
URL:https://www.2ormore.org/event/the-prayer-porch/2025-10-22/
END:VEVENT
BEGIN:VEVENT
DTSTART;TZID=UTC:20251021T080000
DTEND;TZID=UTC:20251021T170000
DTSTAMP:20260425T193023
CREATED:20240306T185823Z
LAST-MODIFIED:20240306T185823Z
UID:10002480-1761033600-1761066000@www.2ormore.org
SUMMARY:The Prayer Porch
DESCRIPTION:
URL:https://www.2ormore.org/event/the-prayer-porch/2025-10-21/
END:VEVENT
BEGIN:VEVENT
DTSTART;TZID=UTC:20251020T080000
DTEND;TZID=UTC:20251020T170000
DTSTAMP:20260425T193023
CREATED:20240306T185823Z
LAST-MODIFIED:20240306T185823Z
UID:10002479-1760947200-1760979600@www.2ormore.org
SUMMARY:The Prayer Porch
DESCRIPTION:
URL:https://www.2ormore.org/event/the-prayer-porch/2025-10-20/
END:VEVENT
BEGIN:VEVENT
DTSTART;TZID=UTC:20251017T080000
DTEND;TZID=UTC:20251017T170000
DTSTAMP:20260425T193023
CREATED:20240306T185823Z
LAST-MODIFIED:20240306T185823Z
UID:10002478-1760688000-1760720400@www.2ormore.org
SUMMARY:The Prayer Porch
DESCRIPTION:
URL:https://www.2ormore.org/event/the-prayer-porch/2025-10-17/
END:VEVENT
BEGIN:VEVENT
DTSTART;TZID=UTC:20251016T080000
DTEND;TZID=UTC:20251016T170000
DTSTAMP:20260425T193023
CREATED:20240306T185823Z
LAST-MODIFIED:20240306T185823Z
UID:10002477-1760601600-1760634000@www.2ormore.org
SUMMARY:The Prayer Porch
DESCRIPTION:
URL:https://www.2ormore.org/event/the-prayer-porch/2025-10-16/
END:VEVENT
BEGIN:VEVENT
DTSTART;TZID=UTC:20251015T080000
DTEND;TZID=UTC:20251015T170000
DTSTAMP:20260425T193023
CREATED:20240306T185823Z
LAST-MODIFIED:20240306T185823Z
UID:10002476-1760515200-1760547600@www.2ormore.org
SUMMARY:The Prayer Porch
DESCRIPTION:
URL:https://www.2ormore.org/event/the-prayer-porch/2025-10-15/
END:VEVENT
END:VCALENDAR