BEGIN:VCALENDAR
VERSION:2.0
PRODID:-//2 Or More Ministries - ECPv6.15.20//NONSGML v1.0//EN
CALSCALE:GREGORIAN
METHOD:PUBLISH
X-WR-CALNAME:2 Or More Ministries
X-ORIGINAL-URL:https://www.2ormore.org
X-WR-CALDESC:Events for 2 Or More Ministries
REFRESH-INTERVAL;VALUE=DURATION:PT1H
X-Robots-Tag:noindex
X-PUBLISHED-TTL:PT1H
BEGIN:VTIMEZONE
TZID:UTC
BEGIN:STANDARD
TZOFFSETFROM:+0000
TZOFFSETTO:+0000
TZNAME:UTC
DTSTART:20240101T000000
END:STANDARD
END:VTIMEZONE
BEGIN:VEVENT
DTSTART;TZID=UTC:20260114T080000
DTEND;TZID=UTC:20260114T170000
DTSTAMP:20260425T133939
CREATED:20240306T185823Z
LAST-MODIFIED:20240306T185823Z
UID:10002541-1768377600-1768410000@www.2ormore.org
SUMMARY:The Prayer Porch
DESCRIPTION:
URL:https://www.2ormore.org/event/the-prayer-porch/2026-01-14/
END:VEVENT
BEGIN:VEVENT
DTSTART;TZID=UTC:20260113T080000
DTEND;TZID=UTC:20260113T170000
DTSTAMP:20260425T133939
CREATED:20240306T185823Z
LAST-MODIFIED:20240306T185823Z
UID:10002540-1768291200-1768323600@www.2ormore.org
SUMMARY:The Prayer Porch
DESCRIPTION:
URL:https://www.2ormore.org/event/the-prayer-porch/2026-01-13/
END:VEVENT
BEGIN:VEVENT
DTSTART;TZID=UTC:20260112T080000
DTEND;TZID=UTC:20260112T170000
DTSTAMP:20260425T133939
CREATED:20240306T185823Z
LAST-MODIFIED:20240306T185823Z
UID:10002539-1768204800-1768237200@www.2ormore.org
SUMMARY:The Prayer Porch
DESCRIPTION:
URL:https://www.2ormore.org/event/the-prayer-porch/2026-01-12/
END:VEVENT
BEGIN:VEVENT
DTSTART;TZID=UTC:20260109T080000
DTEND;TZID=UTC:20260109T170000
DTSTAMP:20260425T133939
CREATED:20240306T185823Z
LAST-MODIFIED:20240306T185823Z
UID:10002538-1767945600-1767978000@www.2ormore.org
SUMMARY:The Prayer Porch
DESCRIPTION:
URL:https://www.2ormore.org/event/the-prayer-porch/2026-01-09/
END:VEVENT
BEGIN:VEVENT
DTSTART;TZID=UTC:20260108T080000
DTEND;TZID=UTC:20260108T170000
DTSTAMP:20260425T133939
CREATED:20240306T185823Z
LAST-MODIFIED:20240306T185823Z
UID:10002537-1767859200-1767891600@www.2ormore.org
SUMMARY:The Prayer Porch
DESCRIPTION:
URL:https://www.2ormore.org/event/the-prayer-porch/2026-01-08/
END:VEVENT
BEGIN:VEVENT
DTSTART;TZID=UTC:20260107T080000
DTEND;TZID=UTC:20260107T170000
DTSTAMP:20260425T133939
CREATED:20240306T185823Z
LAST-MODIFIED:20240306T185823Z
UID:10002536-1767772800-1767805200@www.2ormore.org
SUMMARY:The Prayer Porch
DESCRIPTION:
URL:https://www.2ormore.org/event/the-prayer-porch/2026-01-07/
END:VEVENT
BEGIN:VEVENT
DTSTART;TZID=UTC:20260106T080000
DTEND;TZID=UTC:20260106T170000
DTSTAMP:20260425T133939
CREATED:20240306T185823Z
LAST-MODIFIED:20240306T185823Z
UID:10002535-1767686400-1767718800@www.2ormore.org
SUMMARY:The Prayer Porch
DESCRIPTION:
URL:https://www.2ormore.org/event/the-prayer-porch/2026-01-06/
END:VEVENT
BEGIN:VEVENT
DTSTART;TZID=UTC:20260105T080000
DTEND;TZID=UTC:20260105T170000
DTSTAMP:20260425T133939
CREATED:20240306T185823Z
LAST-MODIFIED:20240306T185823Z
UID:10002534-1767600000-1767632400@www.2ormore.org
SUMMARY:The Prayer Porch
DESCRIPTION:
URL:https://www.2ormore.org/event/the-prayer-porch/2026-01-05/
END:VEVENT
BEGIN:VEVENT
DTSTART;TZID=UTC:20260102T080000
DTEND;TZID=UTC:20260102T170000
DTSTAMP:20260425T133939
CREATED:20240306T185823Z
LAST-MODIFIED:20240306T185823Z
UID:10002533-1767340800-1767373200@www.2ormore.org
SUMMARY:The Prayer Porch
DESCRIPTION:
URL:https://www.2ormore.org/event/the-prayer-porch/2026-01-02/
END:VEVENT
BEGIN:VEVENT
DTSTART;TZID=UTC:20260101T080000
DTEND;TZID=UTC:20260101T170000
DTSTAMP:20260425T133939
CREATED:20240306T185823Z
LAST-MODIFIED:20240306T185823Z
UID:10002532-1767254400-1767286800@www.2ormore.org
SUMMARY:The Prayer Porch
DESCRIPTION:
URL:https://www.2ormore.org/event/the-prayer-porch/2026-01-01/
END:VEVENT
BEGIN:VEVENT
DTSTART;TZID=UTC:20251231T080000
DTEND;TZID=UTC:20251231T170000
DTSTAMP:20260425T133939
CREATED:20240306T185823Z
LAST-MODIFIED:20240306T185823Z
UID:10002531-1767168000-1767200400@www.2ormore.org
SUMMARY:The Prayer Porch
DESCRIPTION:
URL:https://www.2ormore.org/event/the-prayer-porch/2025-12-31/
END:VEVENT
BEGIN:VEVENT
DTSTART;TZID=UTC:20251230T080000
DTEND;TZID=UTC:20251230T170000
DTSTAMP:20260425T133939
CREATED:20240306T185823Z
LAST-MODIFIED:20240306T185823Z
UID:10002530-1767081600-1767114000@www.2ormore.org
SUMMARY:The Prayer Porch
DESCRIPTION:
URL:https://www.2ormore.org/event/the-prayer-porch/2025-12-30/
END:VEVENT
BEGIN:VEVENT
DTSTART;TZID=UTC:20251229T080000
DTEND;TZID=UTC:20251229T170000
DTSTAMP:20260425T133939
CREATED:20240306T185823Z
LAST-MODIFIED:20240306T185823Z
UID:10002529-1766995200-1767027600@www.2ormore.org
SUMMARY:The Prayer Porch
DESCRIPTION:
URL:https://www.2ormore.org/event/the-prayer-porch/2025-12-29/
END:VEVENT
BEGIN:VEVENT
DTSTART;TZID=UTC:20251226T080000
DTEND;TZID=UTC:20251226T170000
DTSTAMP:20260425T133939
CREATED:20240306T185823Z
LAST-MODIFIED:20240306T185823Z
UID:10002528-1766736000-1766768400@www.2ormore.org
SUMMARY:The Prayer Porch
DESCRIPTION:
URL:https://www.2ormore.org/event/the-prayer-porch/2025-12-26/
END:VEVENT
BEGIN:VEVENT
DTSTART;TZID=UTC:20251225T080000
DTEND;TZID=UTC:20251225T170000
DTSTAMP:20260425T133939
CREATED:20240306T185823Z
LAST-MODIFIED:20240306T185823Z
UID:10002527-1766649600-1766682000@www.2ormore.org
SUMMARY:The Prayer Porch
DESCRIPTION:
URL:https://www.2ormore.org/event/the-prayer-porch/2025-12-25/
END:VEVENT
BEGIN:VEVENT
DTSTART;TZID=UTC:20251224T080000
DTEND;TZID=UTC:20251224T170000
DTSTAMP:20260425T133939
CREATED:20240306T185823Z
LAST-MODIFIED:20240306T185823Z
UID:10002526-1766563200-1766595600@www.2ormore.org
SUMMARY:The Prayer Porch
DESCRIPTION:
URL:https://www.2ormore.org/event/the-prayer-porch/2025-12-24/
END:VEVENT
BEGIN:VEVENT
DTSTART;TZID=UTC:20251223T080000
DTEND;TZID=UTC:20251223T170000
DTSTAMP:20260425T133939
CREATED:20240306T185823Z
LAST-MODIFIED:20240306T185823Z
UID:10002525-1766476800-1766509200@www.2ormore.org
SUMMARY:The Prayer Porch
DESCRIPTION:
URL:https://www.2ormore.org/event/the-prayer-porch/2025-12-23/
END:VEVENT
BEGIN:VEVENT
DTSTART;TZID=UTC:20251222T080000
DTEND;TZID=UTC:20251222T170000
DTSTAMP:20260425T133939
CREATED:20240306T185823Z
LAST-MODIFIED:20240306T185823Z
UID:10002524-1766390400-1766422800@www.2ormore.org
SUMMARY:The Prayer Porch
DESCRIPTION:
URL:https://www.2ormore.org/event/the-prayer-porch/2025-12-22/
END:VEVENT
BEGIN:VEVENT
DTSTART;TZID=UTC:20251219T080000
DTEND;TZID=UTC:20251219T170000
DTSTAMP:20260425T133939
CREATED:20240306T185823Z
LAST-MODIFIED:20240306T185823Z
UID:10002523-1766131200-1766163600@www.2ormore.org
SUMMARY:The Prayer Porch
DESCRIPTION:
URL:https://www.2ormore.org/event/the-prayer-porch/2025-12-19/
END:VEVENT
BEGIN:VEVENT
DTSTART;TZID=UTC:20251218T080000
DTEND;TZID=UTC:20251218T170000
DTSTAMP:20260425T133939
CREATED:20240306T185823Z
LAST-MODIFIED:20240306T185823Z
UID:10002522-1766044800-1766077200@www.2ormore.org
SUMMARY:The Prayer Porch
DESCRIPTION:
URL:https://www.2ormore.org/event/the-prayer-porch/2025-12-18/
END:VEVENT
BEGIN:VEVENT
DTSTART;TZID=UTC:20251217T080000
DTEND;TZID=UTC:20251217T170000
DTSTAMP:20260425T133939
CREATED:20240306T185823Z
LAST-MODIFIED:20240306T185823Z
UID:10002521-1765958400-1765990800@www.2ormore.org
SUMMARY:The Prayer Porch
DESCRIPTION:
URL:https://www.2ormore.org/event/the-prayer-porch/2025-12-17/
END:VEVENT
BEGIN:VEVENT
DTSTART;TZID=UTC:20251216T080000
DTEND;TZID=UTC:20251216T170000
DTSTAMP:20260425T133939
CREATED:20240306T185823Z
LAST-MODIFIED:20240306T185823Z
UID:10002520-1765872000-1765904400@www.2ormore.org
SUMMARY:The Prayer Porch
DESCRIPTION:
URL:https://www.2ormore.org/event/the-prayer-porch/2025-12-16/
END:VEVENT
BEGIN:VEVENT
DTSTART;TZID=UTC:20251215T080000
DTEND;TZID=UTC:20251215T170000
DTSTAMP:20260425T133939
CREATED:20240306T185823Z
LAST-MODIFIED:20240306T185823Z
UID:10002519-1765785600-1765818000@www.2ormore.org
SUMMARY:The Prayer Porch
DESCRIPTION:
URL:https://www.2ormore.org/event/the-prayer-porch/2025-12-15/
END:VEVENT
BEGIN:VEVENT
DTSTART;TZID=UTC:20251212T080000
DTEND;TZID=UTC:20251212T170000
DTSTAMP:20260425T133939
CREATED:20240306T185823Z
LAST-MODIFIED:20240306T185823Z
UID:10002518-1765526400-1765558800@www.2ormore.org
SUMMARY:The Prayer Porch
DESCRIPTION:
URL:https://www.2ormore.org/event/the-prayer-porch/2025-12-12/
END:VEVENT
BEGIN:VEVENT
DTSTART;TZID=UTC:20251211T080000
DTEND;TZID=UTC:20251211T170000
DTSTAMP:20260425T133939
CREATED:20240306T185823Z
LAST-MODIFIED:20240306T185823Z
UID:10002517-1765440000-1765472400@www.2ormore.org
SUMMARY:The Prayer Porch
DESCRIPTION:
URL:https://www.2ormore.org/event/the-prayer-porch/2025-12-11/
END:VEVENT
BEGIN:VEVENT
DTSTART;TZID=UTC:20251210T080000
DTEND;TZID=UTC:20251210T170000
DTSTAMP:20260425T133939
CREATED:20240306T185823Z
LAST-MODIFIED:20240306T185823Z
UID:10002516-1765353600-1765386000@www.2ormore.org
SUMMARY:The Prayer Porch
DESCRIPTION:
URL:https://www.2ormore.org/event/the-prayer-porch/2025-12-10/
END:VEVENT
BEGIN:VEVENT
DTSTART;TZID=UTC:20251209T080000
DTEND;TZID=UTC:20251209T170000
DTSTAMP:20260425T133939
CREATED:20240306T185823Z
LAST-MODIFIED:20240306T185823Z
UID:10002515-1765267200-1765299600@www.2ormore.org
SUMMARY:The Prayer Porch
DESCRIPTION:
URL:https://www.2ormore.org/event/the-prayer-porch/2025-12-09/
END:VEVENT
BEGIN:VEVENT
DTSTART;TZID=UTC:20251208T080000
DTEND;TZID=UTC:20251208T170000
DTSTAMP:20260425T133939
CREATED:20240306T185823Z
LAST-MODIFIED:20240306T185823Z
UID:10002514-1765180800-1765213200@www.2ormore.org
SUMMARY:The Prayer Porch
DESCRIPTION:
URL:https://www.2ormore.org/event/the-prayer-porch/2025-12-08/
END:VEVENT
BEGIN:VEVENT
DTSTART;TZID=UTC:20251205T080000
DTEND;TZID=UTC:20251205T170000
DTSTAMP:20260425T133939
CREATED:20240306T185823Z
LAST-MODIFIED:20240306T185823Z
UID:10002513-1764921600-1764954000@www.2ormore.org
SUMMARY:The Prayer Porch
DESCRIPTION:
URL:https://www.2ormore.org/event/the-prayer-porch/2025-12-05/
END:VEVENT
BEGIN:VEVENT
DTSTART;TZID=UTC:20251204T080000
DTEND;TZID=UTC:20251204T170000
DTSTAMP:20260425T133939
CREATED:20240306T185823Z
LAST-MODIFIED:20240306T185823Z
UID:10002512-1764835200-1764867600@www.2ormore.org
SUMMARY:The Prayer Porch
DESCRIPTION:
URL:https://www.2ormore.org/event/the-prayer-porch/2025-12-04/
END:VEVENT
END:VCALENDAR